Package: DelayedDataFrame Version: 1.24.0 Command: chmod a+r DelayedDataFrame -R && E:\biocbuild\bbs-3.21-bioc\R\bin\R.exe CMD build --keep-empty-dirs --no-resave-data DelayedDataFrame StartedAt: 2025-08-14 18:31:29 -0400 (Thu, 14 Aug 2025) EndedAt: 2025-08-14 18:32:08 -0400 (Thu, 14 Aug 2025) EllapsedTime: 38.6 seconds RetCode: 0 Status: OK PackageFile: DelayedDataFrame_1.24.0.tar.gz PackageFileSize: 486.7 KiB