Package: DegNorm Version: 1.16.0 Command: /home/biocbuild/R/R/bin/R CMD check --install=check:DegNorm.install-out.txt --library=/home/biocbuild/R/R/site-library --no-vignettes --timings DegNorm_1.16.0.tar.gz StartedAt: 2025-01-31 05:30:19 -0000 (Fri, 31 Jan 2025) EndedAt: 2025-01-31 05:38:28 -0000 (Fri, 31 Jan 2025) EllapsedTime: 488.5 seconds RetCode: 0 Status: OK CheckDir: DegNorm.Rcheck Warnings: 0