Package: DeepTarget Version: 1.0.0 Command: /home/biocbuild/R/R/bin/R CMD check --install=check:DeepTarget.install-out.txt --library=/home/biocbuild/R/R/site-library --no-vignettes --timings DeepTarget_1.0.0.tar.gz StartedAt: 2025-01-31 05:30:05 -0000 (Fri, 31 Jan 2025) EndedAt: 2025-01-31 05:34:21 -0000 (Fri, 31 Jan 2025) EllapsedTime: 256.2 seconds RetCode: 0 Status: OK CheckDir: DeepTarget.Rcheck Warnings: 0