Package: DeepTarget Version: 1.2.0 Command: /Library/Frameworks/R.framework/Resources/bin/R CMD check --install=check:DeepTarget.install-out.txt --library=/Library/Frameworks/R.framework/Resources/library --no-vignettes --timings DeepTarget_1.2.0.tar.gz StartedAt: 2025-05-16 17:18:00 -0400 (Fri, 16 May 2025) EndedAt: 2025-05-16 17:22:06 -0400 (Fri, 16 May 2025) EllapsedTime: 245.8 seconds RetCode: 0 Status: OK CheckDir: DeepTarget.Rcheck Warnings: 0