Package: DeepTarget Version: 1.2.0 Command: /Library/Frameworks/R.framework/Resources/bin/R CMD build --keep-empty-dirs --no-resave-data DeepTarget StartedAt: 2025-05-15 22:27:27 -0400 (Thu, 15 May 2025) EndedAt: 2025-05-15 22:28:14 -0400 (Thu, 15 May 2025) EllapsedTime: 47.1 seconds RetCode: 0 Status: OK PackageFile: DeepTarget_1.2.0.tar.gz PackageFileSize: 2.776 MiB