Package: DeepTarget Version: 1.2.0 Command: rm -rf DeepTarget.buildbin-libdir && mkdir DeepTarget.buildbin-libdir && /Users/biocbuild/BBS/utils/build-universal.sh DeepTarget_1.2.0.tar.gz /Library/Frameworks/R.framework/Resources/bin/R DeepTarget.buildbin-libdir StartedAt: 2025-05-17 15:07:42 -0400 (Sat, 17 May 2025) EndedAt: 2025-05-17 15:08:08 -0400 (Sat, 17 May 2025) EllapsedTime: 26.1 seconds RetCode: 0 Status: OK PackageFile: DeepTarget_1.2.0.tgz PackageFileSize: 2.817 MiB