Package: DeepTarget Version: 1.2.0 Maintainer: Trinh Nguyen MaintainerEmail: tinh.nguyen at nih.gov git_url: https://git.bioconductor.org/packages/DeepTarget git_branch: RELEASE_3_21 git_last_commit: 2b3e232 git_last_commit_date: 2025-04-15 13:36:56 -0400 (Tue, 15 Apr 2025)