Package: DeepPINCS Version: 1.14.0 Command: /home/biocbuild/R/R/bin/R CMD build --keep-empty-dirs --no-resave-data DeepPINCS StartedAt: 2025-01-30 23:03:05 -0000 (Thu, 30 Jan 2025) EndedAt: 2025-01-30 23:04:17 -0000 (Thu, 30 Jan 2025) EllapsedTime: 72.0 seconds RetCode: 1 Status: ERROR PackageFile: None PackageFileSize: NA