Package: DeeDeeExperiment Version: 1.0.0 Command: /home/biocbuild/bbs-3.22-bioc/R/bin/R CMD INSTALL DeeDeeExperiment StartedAt: 2025-11-04 15:20:53 -0500 (Tue, 04 Nov 2025) EndedAt: 2025-11-04 15:21:23 -0500 (Tue, 04 Nov 2025) EllapsedTime: 29.5 seconds RetCode: 0 Status: OK