Package: DeeDeeExperiment Version: 1.0.0 Command: /home/biocbuild/bbs-3.22-bioc/R/bin/R CMD build --keep-empty-dirs --no-resave-data --md5 DeeDeeExperiment StartedAt: 2025-11-04 17:12:11 -0500 (Tue, 04 Nov 2025) EndedAt: 2025-11-04 17:13:13 -0500 (Tue, 04 Nov 2025) EllapsedTime: 61.1 seconds RetCode: 0 Status: OK PackageFile: DeeDeeExperiment_1.0.0.tar.gz PackageFileSize: 4.506 MiB