Package: DeeDeeExperiment Version: 1.0.0 Command: /Library/Frameworks/R.framework/Resources/bin/R CMD build --keep-empty-dirs --no-resave-data DeeDeeExperiment StartedAt: 2025-11-03 16:43:22 -0500 (Mon, 03 Nov 2025) EndedAt: 2025-11-03 16:44:44 -0500 (Mon, 03 Nov 2025) EllapsedTime: 82.2 seconds RetCode: 0 Status: OK PackageFile: DeeDeeExperiment_1.0.0.tar.gz PackageFileSize: 4.503 MiB