Package: DeeDeeExperiment Version: 1.0.0 Command: /Library/Frameworks/R.framework/Resources/bin/R CMD INSTALL DeeDeeExperiment StartedAt: 2025-11-06 15:13:47 -0500 (Thu, 06 Nov 2025) EndedAt: 2025-11-06 15:13:59 -0500 (Thu, 06 Nov 2025) EllapsedTime: 11.8 seconds RetCode: 0 Status: OK