Package: DeconRNASeq Version: 1.50.0 Command: /home/biocbuild/R/R/bin/R CMD build --keep-empty-dirs --no-resave-data DeconRNASeq StartedAt: 2025-05-16 00:00:50 -0000 (Fri, 16 May 2025) EndedAt: 2025-05-16 00:01:05 -0000 (Fri, 16 May 2025) EllapsedTime: 15.0 seconds RetCode: 0 Status: OK PackageFile: DeconRNASeq_1.50.0.tar.gz PackageFileSize: 6.617 MiB