Package: DeProViR Version: 1.4.0 Command: chmod a+r DeProViR -R && E:\biocbuild\bbs-3.21-bioc\R\bin\R.exe CMD build --keep-empty-dirs --no-resave-data DeProViR StartedAt: 2025-08-14 18:34:07 -0400 (Thu, 14 Aug 2025) EndedAt: 2025-08-14 18:34:37 -0400 (Thu, 14 Aug 2025) EllapsedTime: 30.0 seconds RetCode: 1 Status: ERROR PackageFile: None PackageFileSize: NA