Package: Damsel Version: 1.2.0 Command: /home/biocbuild/R/R/bin/R CMD check --install=check:Damsel.install-out.txt --library=/home/biocbuild/R/R/site-library --no-vignettes --timings Damsel_1.2.0.tar.gz StartedAt: 2025-01-31 05:26:09 -0000 (Fri, 31 Jan 2025) EndedAt: 2025-01-31 05:30:19 -0000 (Fri, 31 Jan 2025) EllapsedTime: 250.3 seconds RetCode: 0 Status: OK CheckDir: Damsel.Rcheck Warnings: 0