Package: Damsel Version: 1.2.0 Command: /home/biocbuild/R/R/bin/R CMD build --keep-empty-dirs --no-resave-data Damsel StartedAt: 2025-01-30 23:00:17 -0000 (Thu, 30 Jan 2025) EndedAt: 2025-01-30 23:03:25 -0000 (Thu, 30 Jan 2025) EllapsedTime: 187.1 seconds RetCode: 0 Status: OK PackageFile: Damsel_1.2.0.tar.gz PackageFileSize: 2.356 MiB