Package: Damsel Version: 1.6.0 Command: rm -rf Damsel.buildbin-libdir && mkdir Damsel.buildbin-libdir && /Users/biocbuild/BBS/utils/build-universal.sh Damsel_1.6.0.tar.gz /Library/Frameworks/R.framework/Resources/bin/R Damsel.buildbin-libdir StartedAt: 2025-11-10 23:17:04 -0500 (Mon, 10 Nov 2025) EndedAt: 2025-11-10 23:17:07 -0500 (Mon, 10 Nov 2025) EllapsedTime: 3.1 seconds RetCode: 0 Status: OK PackageFile: Damsel_1.6.0.tgz PackageFileSize: 3.235 MiB