Package: DTA Version: 2.54.0 Command: /home/biocbuild/R/R/bin/R CMD INSTALL DTA StartedAt: 2025-05-26 20:13:52 -0000 (Mon, 26 May 2025) EndedAt: 2025-05-26 20:14:25 -0000 (Mon, 26 May 2025) EllapsedTime: 32.9 seconds RetCode: 0 Status: OK