Package: DSS Version: 2.56.0 Command: /Library/Frameworks/R.framework/Resources/bin/R CMD INSTALL DSS StartedAt: 2025-04-21 15:32:01 -0400 (Mon, 21 Apr 2025) EndedAt: 2025-04-21 15:32:57 -0400 (Mon, 21 Apr 2025) EllapsedTime: 56.2 seconds RetCode: 0 Status: OK