Package: DRIMSeq Version: 1.36.0 Command: /Library/Frameworks/R.framework/Resources/bin/R CMD build --keep-empty-dirs --no-resave-data DRIMSeq StartedAt: 2025-05-05 18:38:38 -0400 (Mon, 05 May 2025) EndedAt: 2025-05-05 18:44:25 -0400 (Mon, 05 May 2025) EllapsedTime: 346.6 seconds RetCode: 0 Status: OK PackageFile: DRIMSeq_1.36.0.tar.gz PackageFileSize: 478.7 KiB