Package: DOtools Version: 1.0.0 Command: /home/biocbuild/bbs-3.22-bioc/R/bin/R CMD INSTALL DOtools StartedAt: 2025-11-06 15:59:22 -0500 (Thu, 06 Nov 2025) EndedAt: 2025-11-06 16:00:08 -0500 (Thu, 06 Nov 2025) EllapsedTime: 46.1 seconds RetCode: 0 Status: OK