Package: DOtools Version: 1.0.0 Command: /home/biocbuild/bbs-3.22-bioc/R/bin/R CMD build --keep-empty-dirs --no-resave-data --md5 DOtools StartedAt: 2025-11-06 17:25:23 -0500 (Thu, 06 Nov 2025) EndedAt: 2025-11-06 17:29:21 -0500 (Thu, 06 Nov 2025) EllapsedTime: 238.3 seconds RetCode: 0 Status: OK PackageFile: DOtools_1.0.0.tar.gz PackageFileSize: 4.763 MiB