Package: DOtools Version: 1.0.0 Command: /Library/Frameworks/R.framework/Resources/bin/R CMD INSTALL DOtools StartedAt: 2025-11-06 15:30:37 -0500 (Thu, 06 Nov 2025) EndedAt: 2025-11-06 15:30:56 -0500 (Thu, 06 Nov 2025) EllapsedTime: 18.7 seconds RetCode: 0 Status: OK