Package: DOtools Version: 1.0.0 Command: /Library/Frameworks/R.framework/Resources/bin/R CMD build --keep-empty-dirs --no-resave-data DOtools StartedAt: 2025-11-06 16:15:58 -0500 (Thu, 06 Nov 2025) EndedAt: 2025-11-06 16:17:47 -0500 (Thu, 06 Nov 2025) EllapsedTime: 108.2 seconds RetCode: 1 Status: ERROR PackageFile: None PackageFileSize: NA