Package: DNEA Version: 1.0.0 Command: /home/biocbuild/bbs-3.22-bioc/R/bin/R CMD INSTALL DNEA StartedAt: 2025-11-05 15:45:49 -0500 (Wed, 05 Nov 2025) EndedAt: 2025-11-05 15:46:24 -0500 (Wed, 05 Nov 2025) EllapsedTime: 34.7 seconds RetCode: 0 Status: OK