Package: DNEA Version: 1.0.0 Command: /home/biocbuild/bbs-3.22-bioc/R/bin/R CMD build --keep-empty-dirs --no-resave-data --md5 DNEA StartedAt: 2025-11-05 17:32:13 -0500 (Wed, 05 Nov 2025) EndedAt: 2025-11-05 17:33:46 -0500 (Wed, 05 Nov 2025) EllapsedTime: 93.1 seconds RetCode: 0 Status: OK PackageFile: DNEA_1.0.0.tar.gz PackageFileSize: 4.306 MiB