Package: DNAshapeR Version: 1.36.0 Command: /Library/Frameworks/R.framework/Resources/bin/R CMD INSTALL DNAshapeR StartedAt: 2025-05-08 15:27:00 -0400 (Thu, 08 May 2025) EndedAt: 2025-05-08 15:28:20 -0400 (Thu, 08 May 2025) EllapsedTime: 79.7 seconds RetCode: 0 Status: OK