Package: DNAshapeR Version: 1.36.0 Command: /Library/Frameworks/R.framework/Resources/bin/R CMD build --keep-empty-dirs --no-resave-data DNAshapeR StartedAt: 2025-05-08 18:36:34 -0400 (Thu, 08 May 2025) EndedAt: 2025-05-08 18:39:08 -0400 (Thu, 08 May 2025) EllapsedTime: 153.2 seconds RetCode: 0 Status: OK PackageFile: DNAshapeR_1.36.0.tar.gz PackageFileSize: 1.138 MiB