Package: DNAshapeR Version: 1.36.0 Command: /Library/Frameworks/R.framework/Resources/bin/R CMD INSTALL DNAshapeR StartedAt: 2025-04-21 15:15:46 -0400 (Mon, 21 Apr 2025) EndedAt: 2025-04-21 15:16:35 -0400 (Mon, 21 Apr 2025) EllapsedTime: 48.9 seconds RetCode: 0 Status: OK