Package: DNAshapeR Version: 1.36.0 Command: /home/biocbuild/R/R/bin/R CMD check --install=check:DNAshapeR.install-out.txt --library=/home/biocbuild/R/R/site-library --no-vignettes --timings DNAshapeR_1.36.0.tar.gz StartedAt: 2025-05-13 08:04:45 -0000 (Tue, 13 May 2025) EndedAt: 2025-05-13 08:07:25 -0000 (Tue, 13 May 2025) EllapsedTime: 160.2 seconds RetCode: 0 Status: OK CheckDir: DNAshapeR.Rcheck Warnings: 0