Package: DNAshapeR Version: 1.36.0 Command: rm -rf DNAshapeR.buildbin-libdir && mkdir DNAshapeR.buildbin-libdir && /Users/biocbuild/BBS/utils/build-universal.sh DNAshapeR_1.36.0.tar.gz /Library/Frameworks/R.framework/Resources/bin/R DNAshapeR.buildbin-libdir StartedAt: 2025-05-14 14:48:51 -0400 (Wed, 14 May 2025) EndedAt: 2025-05-14 14:49:35 -0400 (Wed, 14 May 2025) EllapsedTime: 44.2 seconds RetCode: 0 Status: OK PackageFile: DNAshapeR_1.36.0.tgz PackageFileSize: 1.295 MiB