Package: DNAcycP2 Version: 1.2.0 Command: /home/biocbuild/bbs-3.22-bioc/R/bin/R CMD INSTALL DNAcycP2 StartedAt: 2025-11-05 15:19:10 -0500 (Wed, 05 Nov 2025) EndedAt: 2025-11-05 15:19:20 -0500 (Wed, 05 Nov 2025) EllapsedTime: 10.3 seconds RetCode: 0 Status: OK