Package: DNAcopy Version: 1.82.0 Command: /home/biocbuild/R/R/bin/R CMD build --keep-empty-dirs --no-resave-data DNAcopy StartedAt: 2025-05-09 00:22:37 -0000 (Fri, 09 May 2025) EndedAt: 2025-05-09 00:22:48 -0000 (Fri, 09 May 2025) EllapsedTime: 11.0 seconds RetCode: 0 Status: OK PackageFile: DNAcopy_1.82.0.tar.gz PackageFileSize: 395.4 KiB