Package: DNAcopy Version: 1.82.0 Command: /Library/Frameworks/R.framework/Resources/bin/R CMD build --keep-empty-dirs --no-resave-data DNAcopy StartedAt: 2025-04-28 21:27:01 -0400 (Mon, 28 Apr 2025) EndedAt: 2025-04-28 21:27:08 -0400 (Mon, 28 Apr 2025) EllapsedTime: 7.1 seconds RetCode: 0 Status: OK PackageFile: DNAcopy_1.82.0.tar.gz PackageFileSize: 404.7 KiB