Package: DNAcopy Version: 1.80.0 Command: rm -rf DNAcopy.buildbin-libdir && mkdir DNAcopy.buildbin-libdir && /Users/biocbuild/BBS/utils/build-universal.sh DNAcopy_1.80.0.tar.gz /Library/Frameworks/R.framework/Resources/bin/R DNAcopy.buildbin-libdir StartedAt: 2025-02-01 14:43:15 -0500 (Sat, 01 Feb 2025) EndedAt: 2025-02-01 14:43:25 -0500 (Sat, 01 Feb 2025) EllapsedTime: 10.1 seconds RetCode: 0 Status: OK PackageFile: DNAcopy_1.80.0.tgz PackageFileSize: 500.3 KiB