Package: DNABarcodeCompatibility Version: 1.24.0 Command: rm -rf DNABarcodeCompatibility.buildbin-libdir && mkdir DNABarcodeCompatibility.buildbin-libdir && E:\biocbuild\bbs-3.21-bioc\R\bin\R.exe CMD INSTALL --build --library=DNABarcodeCompatibility.buildbin-libdir DNABarcodeCompatibility_1.24.0.tar.gz StartedAt: 2025-08-15 09:11:38 -0400 (Fri, 15 Aug 2025) EndedAt: 2025-08-15 09:21:20 -0400 (Fri, 15 Aug 2025) EllapsedTime: 582.3 seconds RetCode: 0 Status: OK PackageFile: DNABarcodeCompatibility_1.24.0.zip PackageFileSize: 715.3 KiB