Package: DMRcate Version: 3.4.0 Maintainer: Tim Peters MaintainerEmail: t.peters at garvan.org.au git_url: https://git.bioconductor.org/packages/DMRcate git_branch: RELEASE_3_21 git_last_commit: e89bf7f git_last_commit_date: 2025-04-15 10:29:05 -0400 (Tue, 15 Apr 2025)