Package: DMRcaller Version: 1.40.0 Command: /home/biocbuild/R/R/bin/R CMD INSTALL DMRcaller StartedAt: 2025-05-08 20:34:47 -0000 (Thu, 08 May 2025) EndedAt: 2025-05-08 20:35:05 -0000 (Thu, 08 May 2025) EllapsedTime: 17.8 seconds RetCode: 0 Status: OK