Package: DMRcaller Version: 1.40.0 Command: /Library/Frameworks/R.framework/Resources/bin/R CMD build --keep-empty-dirs --no-resave-data DMRcaller StartedAt: 2025-04-21 16:12:01 -0400 (Mon, 21 Apr 2025) EndedAt: 2025-04-21 16:12:30 -0400 (Mon, 21 Apr 2025) EllapsedTime: 29.3 seconds RetCode: 0 Status: OK PackageFile: DMRcaller_1.40.0.tar.gz PackageFileSize: 1.633 MiB