Package: DMRScan Version: 1.28.0 Command: /home/biocbuild/R/R/bin/R CMD INSTALL DMRScan StartedAt: 2025-01-30 20:14:33 -0000 (Thu, 30 Jan 2025) EndedAt: 2025-01-30 20:14:52 -0000 (Thu, 30 Jan 2025) EllapsedTime: 19.4 seconds RetCode: 0 Status: OK