Package: DMRScan Version: 1.28.0 Command: /home/biocbuild/R/R/bin/R CMD check --install=check:DMRScan.install-out.txt --library=/home/biocbuild/R/R/site-library --no-vignettes --timings DMRScan_1.28.0.tar.gz StartedAt: 2025-01-31 05:47:25 -0000 (Fri, 31 Jan 2025) EndedAt: 2025-01-31 05:55:05 -0000 (Fri, 31 Jan 2025) EllapsedTime: 459.5 seconds RetCode: 0 Status: OK CheckDir: DMRScan.Rcheck Warnings: 0