Package: DMRScan Version: 1.28.0 Command: /home/biocbuild/R/R/bin/R CMD build --keep-empty-dirs --no-resave-data DMRScan StartedAt: 2025-01-30 23:13:59 -0000 (Thu, 30 Jan 2025) EndedAt: 2025-01-30 23:16:08 -0000 (Thu, 30 Jan 2025) EllapsedTime: 129.0 seconds RetCode: 0 Status: OK PackageFile: DMRScan_1.28.0.tar.gz PackageFileSize: 3.371 MiB