Package: DMRScan Version: 1.30.0 Command: /Library/Frameworks/R.framework/Resources/bin/R CMD build --keep-empty-dirs --no-resave-data DMRScan StartedAt: 2025-04-21 16:38:25 -0400 (Mon, 21 Apr 2025) EndedAt: 2025-04-21 16:40:16 -0400 (Mon, 21 Apr 2025) EllapsedTime: 110.7 seconds RetCode: 0 Status: OK PackageFile: DMRScan_1.30.0.tar.gz PackageFileSize: 3.347 MiB