Package: DMRScan Version: 1.30.0 Command: rm -rf DMRScan.buildbin-libdir && mkdir DMRScan.buildbin-libdir && /Users/biocbuild/BBS/utils/build-universal.sh DMRScan_1.30.0.tar.gz /Library/Frameworks/R.framework/Resources/bin/R DMRScan.buildbin-libdir StartedAt: 2025-04-22 00:43:01 -0400 (Tue, 22 Apr 2025) EndedAt: 2025-04-22 00:43:26 -0400 (Tue, 22 Apr 2025) EllapsedTime: 25.5 seconds RetCode: 0 Status: OK PackageFile: DMRScan_1.30.0.tgz PackageFileSize: 5.081 MiB