Package: DMRScan Version: 1.28.0 Command: /Library/Frameworks/R.framework/Resources/bin/R CMD build --keep-empty-dirs --no-resave-data DMRScan StartedAt: 2025-01-30 22:49:11 -0500 (Thu, 30 Jan 2025) EndedAt: 2025-01-30 22:50:36 -0500 (Thu, 30 Jan 2025) EllapsedTime: 85.0 seconds RetCode: 1 Status: ERROR PackageFile: None PackageFileSize: NA