Package: DMCHMM Version: 1.30.0 Maintainer: Farhad Shokoohi MaintainerEmail: shokoohi at icloud.com git_url: https://git.bioconductor.org/packages/DMCHMM git_branch: RELEASE_3_21 git_last_commit: fdec87b git_last_commit_date: 2025-04-15 11:13:46 -0400 (Tue, 15 Apr 2025)