Package: DIAlignR Version: 2.16.0 Command: /Library/Frameworks/R.framework/Resources/bin/R CMD INSTALL DIAlignR StartedAt: 2025-04-21 15:22:48 -0400 (Mon, 21 Apr 2025) EndedAt: 2025-04-21 15:24:01 -0400 (Mon, 21 Apr 2025) EllapsedTime: 72.6 seconds RetCode: 0 Status: OK