Package: DIAlignR Version: 2.16.0 Command: rm -rf DIAlignR.buildbin-libdir && mkdir DIAlignR.buildbin-libdir && /Users/biocbuild/BBS/utils/build-universal.sh DIAlignR_2.16.0.tar.gz /Library/Frameworks/R.framework/Resources/bin/R DIAlignR.buildbin-libdir StartedAt: 2025-04-21 22:33:02 -0400 (Mon, 21 Apr 2025) EndedAt: 2025-04-21 22:33:23 -0400 (Mon, 21 Apr 2025) EllapsedTime: 21.5 seconds RetCode: 0 Status: OK PackageFile: DIAlignR_2.16.0.tgz PackageFileSize: 4.8 MiB