Package: DFplyr Version: 1.0.0 Command: /home/biocbuild/R/R/bin/R CMD INSTALL DFplyr StartedAt: 2025-01-30 20:10:12 -0000 (Thu, 30 Jan 2025) EndedAt: 2025-01-30 20:10:27 -0000 (Thu, 30 Jan 2025) EllapsedTime: 15.0 seconds RetCode: 0 Status: OK