Package: DFplyr Version: 1.0.0 Command: /home/biocbuild/R/R/bin/R CMD build --keep-empty-dirs --no-resave-data DFplyr StartedAt: 2025-01-30 23:10:32 -0000 (Thu, 30 Jan 2025) EndedAt: 2025-01-30 23:10:51 -0000 (Thu, 30 Jan 2025) EllapsedTime: 19.0 seconds RetCode: 0 Status: OK PackageFile: DFplyr_1.0.0.tar.gz PackageFileSize: 459.5 KiB